BEGIN:VCALENDAR
VERSION:2.0
PRODID:-//Karnataka Association of Canberra - ECPv6.2.2//NONSGML v1.0//EN
CALSCALE:GREGORIAN
METHOD:PUBLISH
X-ORIGINAL-URL:https://kannadaincanberra.com
X-WR-CALDESC:Events for Karnataka Association of Canberra
REFRESH-INTERVAL;VALUE=DURATION:PT1H
X-Robots-Tag:noindex
X-PUBLISHED-TTL:PT1H
BEGIN:VTIMEZONE
TZID:Australia/Sydney
BEGIN:STANDARD
TZOFFSETFROM:+1100
TZOFFSETTO:+1000
TZNAME:AEST
DTSTART:20230401T160000
END:STANDARD
BEGIN:DAYLIGHT
TZOFFSETFROM:+1000
TZOFFSETTO:+1100
TZNAME:AEDT
DTSTART:20230930T160000
END:DAYLIGHT
END:VTIMEZONE
BEGIN:VEVENT
DTSTART;TZID=Australia/Sydney:20230923T080000
DTEND;TZID=Australia/Sydney:20230923T170000
DTSTAMP:20260425T024636
CREATED:20230923T013454Z
LAST-MODIFIED:20231120T082424Z
UID:396-1695456000-1695488400@kannadaincanberra.com
SUMMARY:KAC Diwali Celebration
DESCRIPTION:KAC Diwali Celebration
URL:https://kannadaincanberra.com/event/kac-diwali-celebration/
LOCATION:ACT
ATTACH;FMTTYPE=image/jpeg:https://kannadaincanberra.com/wp-content/uploads/2023/09/shutterstock_709239358.jpg
END:VEVENT
END:VCALENDAR